BEGIN:VCALENDAR
VERSION:2.0
PRODID:-//NADI Ulu Manding - ECPv6.15.13.1//NONSGML v1.0//EN
CALSCALE:GREGORIAN
METHOD:PUBLISH
X-WR-CALNAME:NADI Ulu Manding
X-ORIGINAL-URL:https://ulumanding.nadi.my
X-WR-CALDESC:Events for NADI Ulu Manding
REFRESH-INTERVAL;VALUE=DURATION:PT1H
X-Robots-Tag:noindex
X-PUBLISHED-TTL:PT1H
BEGIN:VTIMEZONE
TZID:Asia/Kuala_Lumpur
BEGIN:STANDARD
TZOFFSETFROM:+0800
TZOFFSETTO:+0800
TZNAME:+08
DTSTART:20240101T000000
END:STANDARD
END:VTIMEZONE
BEGIN:VEVENT
DTSTART;TZID=Asia/Kuala_Lumpur:20251016T100000
DTEND;TZID=Asia/Kuala_Lumpur:20251016T233000
DTSTAMP:20260422T105458
CREATED:20251016T005733Z
LAST-MODIFIED:20251016T005733Z
UID:2156-1760608800-1760657400@ulumanding.nadi.my
SUMMARY:Webinar Sesi 2 ( Pemasaran dan operasi Perniagaan )
DESCRIPTION:Kelas Keusahawanan melalui talian.
URL:https://ulumanding.nadi.my/event/webinar-sesi-2-pemasaran-dan-operasi-perniagaan/
LOCATION:NADI KAMPUNG ULU MANDING\, ULU MANDING\, PAKAN\, Sarawak\, 96510\, Malaysia
END:VEVENT
END:VCALENDAR