BEGIN:VCALENDAR
VERSION:2.0
PRODID:-//NADI Ulu Manding - ECPv6.15.13.1//NONSGML v1.0//EN
CALSCALE:GREGORIAN
METHOD:PUBLISH
X-ORIGINAL-URL:https://ulumanding.nadi.my
X-WR-CALDESC:Events for NADI Ulu Manding
REFRESH-INTERVAL;VALUE=DURATION:PT1H
X-Robots-Tag:noindex
X-PUBLISHED-TTL:PT1H
BEGIN:VTIMEZONE
TZID:Asia/Kuala_Lumpur
BEGIN:STANDARD
TZOFFSETFROM:+0800
TZOFFSETTO:+0800
TZNAME:+08
DTSTART:20240101T000000
END:STANDARD
END:VTIMEZONE
BEGIN:VEVENT
DTSTART;TZID=Asia/Kuala_Lumpur:20251203T140000
DTEND;TZID=Asia/Kuala_Lumpur:20251205T170000
DTSTAMP:20260421T063850
CREATED:20251203T002205Z
LAST-MODIFIED:20251203T002205Z
UID:2223-1764770400-1764954000@ulumanding.nadi.my
SUMMARY:OPEN TUITION
DESCRIPTION:Open tuition untuk tingkatan 1 hingga 5.
URL:https://ulumanding.nadi.my/event/open-tuition/
LOCATION:NADI KAMPUNG ULU MANDING\, ULU MANDING\, PAKAN\, Sarawak\, 96510\, Malaysia
END:VEVENT
END:VCALENDAR