BEGIN:VCALENDAR
VERSION:2.0
PRODID:-//NADI Ulu Manding - ECPv6.15.13.1//NONSGML v1.0//EN
CALSCALE:GREGORIAN
METHOD:PUBLISH
X-WR-CALNAME:NADI Ulu Manding
X-ORIGINAL-URL:https://ulumanding.nadi.my
X-WR-CALDESC:Events for NADI Ulu Manding
REFRESH-INTERVAL;VALUE=DURATION:PT1H
X-Robots-Tag:noindex
X-PUBLISHED-TTL:PT1H
BEGIN:VTIMEZONE
TZID:Asia/Kuala_Lumpur
BEGIN:STANDARD
TZOFFSETFROM:+0800
TZOFFSETTO:+0800
TZNAME:+08
DTSTART:20240101T000000
END:STANDARD
END:VTIMEZONE
BEGIN:VEVENT
DTSTART;TZID=Asia/Kuala_Lumpur:20251206T100000
DTEND;TZID=Asia/Kuala_Lumpur:20251207T170000
DTSTAMP:20260420T182740
CREATED:20251206T015854Z
LAST-MODIFIED:20251206T015854Z
UID:2225-1765015200-1765126800@ulumanding.nadi.my
SUMMARY:DILEA ( Tuition )
DESCRIPTION:Webinar berkala dan guidance tuition.
URL:https://ulumanding.nadi.my/event/dilea-tuition/
LOCATION:NADI KAMPUNG ULU MANDING\, ULU MANDING\, PAKAN\, Sarawak\, 96510\, Malaysia
END:VEVENT
END:VCALENDAR