BEGIN:VCALENDAR
VERSION:2.0
PRODID:-//NADI Ulu Manding - ECPv6.15.13.1//NONSGML v1.0//EN
CALSCALE:GREGORIAN
METHOD:PUBLISH
X-WR-CALNAME:NADI Ulu Manding
X-ORIGINAL-URL:https://ulumanding.nadi.my
X-WR-CALDESC:Events for NADI Ulu Manding
REFRESH-INTERVAL;VALUE=DURATION:PT1H
X-Robots-Tag:noindex
X-PUBLISHED-TTL:PT1H
BEGIN:VTIMEZONE
TZID:Asia/Kuala_Lumpur
BEGIN:STANDARD
TZOFFSETFROM:+0800
TZOFFSETTO:+0800
TZNAME:+08
DTSTART:20240101T000000
END:STANDARD
END:VTIMEZONE
BEGIN:VTIMEZONE
TZID:UTC
BEGIN:STANDARD
TZOFFSETFROM:+0000
TZOFFSETTO:+0000
TZNAME:UTC
DTSTART:20230101T000000
END:STANDARD
END:VTIMEZONE
BEGIN:VTIMEZONE
TZID:UTC
BEGIN:STANDARD
TZOFFSETFROM:+0000
TZOFFSETTO:+0000
TZNAME:UTC
DTSTART:20230101T000000
END:STANDARD
END:VTIMEZONE
BEGIN:VEVENT
DTSTART;TZID=Asia/Kuala_Lumpur:20250408T143000
DTEND;TZID=Asia/Kuala_Lumpur:20250408T163000
DTSTAMP:20260423T105914
CREATED:20250408T022424Z
LAST-MODIFIED:20250408T022424Z
UID:1934-1744122600-1744129800@ulumanding.nadi.my
SUMMARY:Kelas NADI Mahir ( Jahit )
DESCRIPTION:Peserta menyertai kelas NADI mahir jahit melalui webminar.
URL:https://ulumanding.nadi.my/event/kelas-nadi-mahir-jahit/
LOCATION:NADI KAMPUNG ULU MANDING\, ULU MANDING\, PAKAN\, Sarawak\, 96510\, Malaysia
END:VEVENT
BEGIN:VEVENT
DTSTART;TZID=Asia/Kuala_Lumpur:20250315T140000
DTEND;TZID=Asia/Kuala_Lumpur:20250315T160000
DTSTAMP:20260423T105914
CREATED:20250314T012755Z
LAST-MODIFIED:20250315T011648Z
UID:1884-1742047200-1742054400@ulumanding.nadi.my
SUMMARY:Kelas ICT
DESCRIPTION:Petugas menyediakan kelas latihan microsoft excel
URL:https://ulumanding.nadi.my/event/kelas-ict-108/
LOCATION:NADI KAMPUNG ULU MANDING\, ULU MANDING\, PAKAN\, Sarawak\, 96510\, Malaysia
END:VEVENT
BEGIN:VEVENT
DTSTART;TZID=Asia/Kuala_Lumpur:20250311T090000
DTEND;TZID=Asia/Kuala_Lumpur:20250311T120000
DTSTAMP:20260423T105914
CREATED:20250311T005313Z
LAST-MODIFIED:20250311T010904Z
UID:1876-1741683600-1741694400@ulumanding.nadi.my
SUMMARY:Kelas Microsoft office
DESCRIPTION:Peserta belajar menaip latihan microsoft excel
URL:https://ulumanding.nadi.my/event/kelas-nadi-mahir/
LOCATION:NADI KAMPUNG ULU MANDING\, ULU MANDING\, PAKAN\, Sarawak\, 96510\, Malaysia
END:VEVENT
BEGIN:VEVENT
DTSTART;TZID=Asia/Kuala_Lumpur:20250303T110000
DTEND;TZID=Asia/Kuala_Lumpur:20250303T150000
DTSTAMP:20260423T105914
CREATED:20250303T024813Z
LAST-MODIFIED:20250303T024813Z
UID:1841-1740999600-1741014000@ulumanding.nadi.my
SUMMARY:kelas Microsoft Office
DESCRIPTION:Petugas membimbing peserta membuat latihan microsoft word seperti surat rasmi\, laporan dan kad ucapan
URL:https://ulumanding.nadi.my/event/kelas-microsoft-office-14/
LOCATION:NADI KAMPUNG ULU MANDING\, ULU MANDING\, PAKAN\, Sarawak\, 96510\, Malaysia
END:VEVENT
BEGIN:VEVENT
DTSTART;TZID=UTC:20250215T140000
DTEND;TZID=UTC:20250215T170000
DTSTAMP:20260423T105914
CREATED:20250214T182113Z
LAST-MODIFIED:20250214T182113Z
UID:1833-1739628000-1739638800@ulumanding.nadi.my
SUMMARY:Kelas Keusahawanan
DESCRIPTION:Peserta kelas keusahawanan belajar membuat poster
URL:https://ulumanding.nadi.my/event/kelas-keusahawanan-116/
LOCATION:NADI KAMPUNG ULU MANDING\, ULU MANDING\, PAKAN\, Sarawak\, 96510\, Malaysia
END:VEVENT
BEGIN:VEVENT
DTSTART;TZID=UTC:20250206T140000
DTEND;TZID=UTC:20250206T170000
DTSTAMP:20260423T105914
CREATED:20250205T225249Z
LAST-MODIFIED:20250205T225249Z
UID:1830-1738850400-1738861200@ulumanding.nadi.my
SUMMARY:Kelas ICT
DESCRIPTION:Petugas mengadakan kelas membuat surat kiriman rasmi dan minit mesyuarat kepada peserta.
URL:https://ulumanding.nadi.my/event/kelas-ict-107/
LOCATION:NADI KAMPUNG ULU MANDING\, ULU MANDING\, PAKAN\, Sarawak\, 96510\, Malaysia
END:VEVENT
BEGIN:VEVENT
DTSTART;TZID=UTC:20250120T140000
DTEND;TZID=UTC:20250120T170000
DTSTAMP:20260423T105914
CREATED:20250106T203413Z
LAST-MODIFIED:20250106T203413Z
UID:1777-1737381600-1737392400@ulumanding.nadi.my
SUMMARY:Klik Dengan Bijak
DESCRIPTION:Peserta membuat kuiz klik dengan bijak dengan peserta.
URL:https://ulumanding.nadi.my/event/klik-dengan-bijak-177/
LOCATION:NADI KAMPUNG ULU MANDING\, ULU MANDING\, PAKAN\, Sarawak\, 96510\, Malaysia
END:VEVENT
BEGIN:VEVENT
DTSTART;TZID=UTC:20250119T080000
DTEND;TZID=UTC:20250119T170000
DTSTAMP:20260423T105914
CREATED:20250106T203240Z
LAST-MODIFIED:20250106T203240Z
UID:1775-1737273600-1737306000@ulumanding.nadi.my
SUMMARY:Klik Dengan Bijak
DESCRIPTION:Petugas memberi taklimat mengenai penipuan scammer.
URL:https://ulumanding.nadi.my/event/klik-dengan-bijak-176/
LOCATION:NADI KAMPUNG ULU MANDING\, ULU MANDING\, PAKAN\, Sarawak\, 96510\, Malaysia
END:VEVENT
BEGIN:VEVENT
DTSTART;TZID=UTC:20250118T080000
DTEND;TZID=UTC:20250118T170000
DTSTAMP:20260423T105914
CREATED:20250106T202930Z
LAST-MODIFIED:20250106T202930Z
UID:1773-1737187200-1737219600@ulumanding.nadi.my
SUMMARY:Klik Dengan Bijak
DESCRIPTION:Petugas membuat taklimat mengenai kes kecurian kabel elektrik.
URL:https://ulumanding.nadi.my/event/klik-dengan-bijak-175/
LOCATION:NADI KAMPUNG ULU MANDING\, ULU MANDING\, PAKAN\, Sarawak\, 96510\, Malaysia
END:VEVENT
BEGIN:VEVENT
DTSTART;TZID=UTC:20250117T140000
DTEND;TZID=UTC:20250117T170000
DTSTAMP:20260423T105914
CREATED:20250106T202816Z
LAST-MODIFIED:20250106T202816Z
UID:1771-1737122400-1737133200@ulumanding.nadi.my
SUMMARY:Aktiviti STEM
DESCRIPTION:Peserta mengadakan aktiviti stem untuk pelajar sekolah.
URL:https://ulumanding.nadi.my/event/aktiviti-stem-13/
LOCATION:NADI KAMPUNG ULU MANDING\, ULU MANDING\, PAKAN\, Sarawak\, 96510\, Malaysia
END:VEVENT
BEGIN:VEVENT
DTSTART;TZID=UTC:20250114T140000
DTEND;TZID=UTC:20250114T170000
DTSTAMP:20260423T105914
CREATED:20250106T202439Z
LAST-MODIFIED:20250106T202439Z
UID:1769-1736863200-1736874000@ulumanding.nadi.my
SUMMARY:Kelas Keusahawanan ( Jadual hasil jualan )
DESCRIPTION:Petugas membimbing peserta membuat jadual hasil jualan. Untuk mengira keuntungan
URL:https://ulumanding.nadi.my/event/kelas-keusahawanan-jadual-hasil-jualan/
LOCATION:NADI KAMPUNG ULU MANDING\, ULU MANDING\, PAKAN\, Sarawak\, 96510\, Malaysia
END:VEVENT
BEGIN:VEVENT
DTSTART;TZID=UTC:20250113T140000
DTEND;TZID=UTC:20250113T170000
DTSTAMP:20260423T105914
CREATED:20250106T202225Z
LAST-MODIFIED:20250106T202225Z
UID:1767-1736776800-1736787600@ulumanding.nadi.my
SUMMARY:kelas keusahawanan ( pelekat )
DESCRIPTION:Petugas membantu peserta membuat design pelekat yang menarik.
URL:https://ulumanding.nadi.my/event/kelas-keusahawanan-pelekat/
LOCATION:NADI KAMPUNG ULU MANDING\, ULU MANDING\, PAKAN\, Sarawak\, 96510\, Malaysia
END:VEVENT
BEGIN:VEVENT
DTSTART;TZID=UTC:20250110T140000
DTEND;TZID=UTC:20250110T170000
DTSTAMP:20260423T105914
CREATED:20250106T202035Z
LAST-MODIFIED:20250106T202035Z
UID:1765-1736517600-1736528400@ulumanding.nadi.my
SUMMARY:Kelas Keusahawanan ( Poster )
DESCRIPTION:Petugas membimbing peserta membuat poster kedai yang menarik.
URL:https://ulumanding.nadi.my/event/kelas-keusahawanan-poster-7/
LOCATION:NADI KAMPUNG ULU MANDING\, ULU MANDING\, PAKAN\, Sarawak\, 96510\, Malaysia
END:VEVENT
BEGIN:VEVENT
DTSTART;TZID=UTC:20250108T140000
DTEND;TZID=UTC:20250108T170000
DTSTAMP:20260423T105914
CREATED:20250106T201617Z
LAST-MODIFIED:20250106T201617Z
UID:1760-1736344800-1736355600@ulumanding.nadi.my
SUMMARY:Kelas Canva
DESCRIPTION:Peserta membuat kelas membuat kad uacapan menggunakan canva
URL:https://ulumanding.nadi.my/event/kelas-canva/
LOCATION:NADI KAMPUNG ULU MANDING\, ULU MANDING\, PAKAN\, Sarawak\, 96510\, Malaysia
END:VEVENT
BEGIN:VEVENT
DTSTART;TZID=UTC:20250107T083000
DTEND;TZID=UTC:20250107T113000
DTSTAMP:20260423T105914
CREATED:20250106T201449Z
LAST-MODIFIED:20250106T201449Z
UID:1758-1736238600-1736249400@ulumanding.nadi.my
SUMMARY:Kelas Microsoft Office ( excel )
DESCRIPTION:Petugas membimbing peserta membuat jadual menggunakan excel.
URL:https://ulumanding.nadi.my/event/kelas-microsoft-office-excel-20/
LOCATION:NADI KAMPUNG ULU MANDING\, ULU MANDING\, PAKAN\, Sarawak\, 96510\, Malaysia
END:VEVENT
BEGIN:VEVENT
DTSTART;TZID=UTC:20250106T140000
DTEND;TZID=UTC:20250106T170000
DTSTAMP:20260423T105914
CREATED:20250106T201224Z
LAST-MODIFIED:20250106T201224Z
UID:1756-1736172000-1736182800@ulumanding.nadi.my
SUMMARY:Kelas Microsoft Office ( excel )
DESCRIPTION:Petugas membimbing peserta membuat carta pie dan bar menggunakan excel.
URL:https://ulumanding.nadi.my/event/kelas-microsoft-office-excel-19/
LOCATION:NADI KAMPUNG ULU MANDING\, ULU MANDING\, PAKAN\, Sarawak\, 96510\, Malaysia
END:VEVENT
BEGIN:VEVENT
DTSTART;TZID=UTC:20250104T140000
DTEND;TZID=UTC:20250104T170000
DTSTAMP:20260423T105914
CREATED:20250103T224736Z
LAST-MODIFIED:20250103T224736Z
UID:1744-1735999200-1736010000@ulumanding.nadi.my
SUMMARY:Kelas Microsoft Office ( Excel )
DESCRIPTION:Petugas membimbing peserta membuat jadual menggunakan excel.
URL:https://ulumanding.nadi.my/event/kelas-microsoft-office-excel-18/
LOCATION:NADI KAMPUNG ULU MANDING\, ULU MANDING\, PAKAN\, Sarawak\, 96510\, Malaysia
END:VEVENT
BEGIN:VEVENT
DTSTART;TZID=UTC:20241230T083000
DTEND;TZID=UTC:20241230T233000
DTSTAMP:20260423T105914
CREATED:20250103T224059Z
LAST-MODIFIED:20250103T224059Z
UID:1740-1735547400-1735601400@ulumanding.nadi.my
SUMMARY:Program perkhidmatan pintar ( NADI safe and shield )
DESCRIPTION:Petugas NADI pergi ke sekolah Sk Semawang untuk memberikan taklimat berkenaan dengan\, NADI safe and shield \, e-kelas dan Perkhidmatan Pintar di NADI.
URL:https://ulumanding.nadi.my/event/program-perkhidmatan-pintar-nadi-safe-and-shield-4/
LOCATION:SK SEMAWANG\, SK SEMAWANG\, SARIKEI\, SARAWAK\, 96510\, Malaysia
END:VEVENT
BEGIN:VEVENT
DTSTART;TZID=UTC:20241228T140000
DTEND;TZID=UTC:20241228T170000
DTSTAMP:20260423T105914
CREATED:20250103T223923Z
LAST-MODIFIED:20250103T223923Z
UID:1738-1735394400-1735405200@ulumanding.nadi.my
SUMMARY:Kelas microsoft office ( Microsoft word )
DESCRIPTION:Petugas memberi peserta membuat laporan aktiviti menggunakan microsoft word.
URL:https://ulumanding.nadi.my/event/kelas-microsoft-office-microsoft-word/
LOCATION:NADI KAMPUNG ULU MANDING\, ULU MANDING\, PAKAN\, Sarawak\, 96510\, Malaysia
END:VEVENT
BEGIN:VEVENT
DTSTART;TZID=UTC:20241228T083000
DTEND;TZID=UTC:20241228T233000
DTSTAMP:20260423T105914
CREATED:20250103T223620Z
LAST-MODIFIED:20250103T224536Z
UID:1734-1735374600-1735428600@ulumanding.nadi.my
SUMMARY:Kelas Microsoft office ( word )
DESCRIPTION:Petugas memberi tunjuk ajar kepada peserta mengenai micosoft word seperti membuat surat kiriman rasmi.
URL:https://ulumanding.nadi.my/event/kelas-microsoft-office-word-7/
LOCATION:NADI KAMPUNG ULU MANDING\, ULU MANDING\, PAKAN\, Sarawak\, 96510\, Malaysia
END:VEVENT
BEGIN:VEVENT
DTSTART;TZID=UTC:20241219T083000
DTEND;TZID=UTC:20241219T233000
DTSTAMP:20260423T105914
CREATED:20250103T223357Z
LAST-MODIFIED:20250103T223357Z
UID:1730-1734597000-1734651000@ulumanding.nadi.my
SUMMARY:Program Perkhidmatan Pintar ( NADI safe and shield )
DESCRIPTION:Petugas NADI pergi ke sekolah Sk Nanga Babai untuk memberikan taklimat berkenaan dengan\, NADI safe and shield \, e-kelas dan Perkhidmatan Pintar di NADI.
URL:https://ulumanding.nadi.my/event/program-perkhidmatan-pintar-nadi-safe-and-shield-3/
LOCATION:SK NANGA BABAI\, SK NANGA BABAI\, SARIKEI\, SARAWAK\, 96510\, Malaysia
END:VEVENT
BEGIN:VEVENT
DTSTART;TZID=UTC:20241212T083000
DTEND;TZID=UTC:20241212T233000
DTSTAMP:20260423T105914
CREATED:20250103T222822Z
LAST-MODIFIED:20250103T222822Z
UID:1726-1733992200-1734046200@ulumanding.nadi.my
SUMMARY:Program Perkhidmatan Pintar ( NADI safe and shield )
DESCRIPTION:Petugas NADI pergi ke sekolah Sk Nanga Engkamop untuk memberikan taklimat berkenaan dengan\, NADI safe and shield \, e-kelas dan Perkhidmatan Pintar di NADI.
URL:https://ulumanding.nadi.my/event/program-perkhidmatan-pintar-nadi-safe-and-shield-2/
LOCATION:SK NANGA ENGKAMOP\, SK NANGA ENGKAMOP\, SARIKEI\, SARAWAK\, 96510\, Malaysia
END:VEVENT
BEGIN:VEVENT
DTSTART;TZID=UTC:20241206T083000
DTEND;TZID=UTC:20241206T113000
DTSTAMP:20260423T105914
CREATED:20250103T222417Z
LAST-MODIFIED:20250103T222505Z
UID:1721-1733473800-1733484600@ulumanding.nadi.my
SUMMARY:Program perkhidmatan Pintar ( NADI safe and Shield )
DESCRIPTION:Petugas NADI pergi ke sekolah Sk Nanga Pakan untuk memberikan taklimat berkenaan dengan\, NADI safe and shield \, e-kelas dan Perkhidmatan Pintar di NADI.
URL:https://ulumanding.nadi.my/event/program-perkhidmatan-pintar-nadi-safe-and-shield/
LOCATION:sk nanga pakan\, SK NANGA PAKAN\, SARIKEI\, SARAWAK\, 96510\, Malaysia
CATEGORIES:DEFAULT
END:VEVENT
BEGIN:VEVENT
DTSTART;TZID=UTC:20241124T140000
DTEND;TZID=UTC:20241124T170000
DTSTAMP:20260423T105914
CREATED:20241102T202846Z
LAST-MODIFIED:20241102T202846Z
UID:1700-1732456800-1732467600@ulumanding.nadi.my
SUMMARY:Klik Dengan Bijak
DESCRIPTION:
URL:https://ulumanding.nadi.my/event/klik-dengan-bijak-174/
LOCATION:Sarawak
CATEGORIES:DEFAULT
END:VEVENT
BEGIN:VEVENT
DTSTART;TZID=UTC:20241123T140000
DTEND;TZID=UTC:20241123T170000
DTSTAMP:20260423T105914
CREATED:20241102T202822Z
LAST-MODIFIED:20241102T202822Z
UID:1699-1732370400-1732381200@ulumanding.nadi.my
SUMMARY:Klik Dengan Bijak
DESCRIPTION:
URL:https://ulumanding.nadi.my/event/klik-dengan-bijak-173/
LOCATION:Sarawak
CATEGORIES:DEFAULT
END:VEVENT
BEGIN:VEVENT
DTSTART;TZID=UTC:20241122T140000
DTEND;TZID=UTC:20241122T170000
DTSTAMP:20260423T105914
CREATED:20241102T202738Z
LAST-MODIFIED:20241102T202738Z
UID:1698-1732284000-1732294800@ulumanding.nadi.my
SUMMARY:Klik Dengan Bijak
DESCRIPTION:
URL:https://ulumanding.nadi.my/event/klik-dengan-bijak-172/
LOCATION:Sarawak
CATEGORIES:DEFAULT
END:VEVENT
BEGIN:VEVENT
DTSTART;TZID=UTC:20241112T140000
DTEND;TZID=UTC:20241112T170000
DTSTAMP:20260423T105914
CREATED:20241102T202701Z
LAST-MODIFIED:20241102T202701Z
UID:1697-1731420000-1731430800@ulumanding.nadi.my
SUMMARY:Aktiviti STEM
DESCRIPTION:
URL:https://ulumanding.nadi.my/event/aktiviti-stem-12/
LOCATION:Sarawak
CATEGORIES:DEFAULT
END:VEVENT
BEGIN:VEVENT
DTSTART;TZID=UTC:20241109T140000
DTEND;TZID=UTC:20241109T170000
DTSTAMP:20260423T105914
CREATED:20241102T202636Z
LAST-MODIFIED:20241102T202636Z
UID:1696-1731160800-1731171600@ulumanding.nadi.my
SUMMARY:Kelas Keusahawanan ( Poster )
DESCRIPTION:
URL:https://ulumanding.nadi.my/event/kelas-keusahawanan-poster-6/
LOCATION:Sarawak
CATEGORIES:DEFAULT
END:VEVENT
BEGIN:VEVENT
DTSTART;TZID=UTC:20241108T140000
DTEND;TZID=UTC:20241108T170000
DTSTAMP:20260423T105914
CREATED:20241102T202610Z
LAST-MODIFIED:20241102T202610Z
UID:1695-1731074400-1731085200@ulumanding.nadi.my
SUMMARY:Kelas Keusahawanan ( Canva )
DESCRIPTION:
URL:https://ulumanding.nadi.my/event/kelas-keusahawanan-canva-12/
LOCATION:Sarawak
CATEGORIES:DEFAULT
END:VEVENT
BEGIN:VEVENT
DTSTART;TZID=UTC:20241108T140000
DTEND;TZID=UTC:20241108T170000
DTSTAMP:20260423T105914
CREATED:20241102T202512Z
LAST-MODIFIED:20241102T202512Z
UID:1694-1731074400-1731085200@ulumanding.nadi.my
SUMMARY:Kelas Keusahawanan ( Canva )
DESCRIPTION:
URL:https://ulumanding.nadi.my/event/kelas-keusahawanan-canva-11/
LOCATION:Sarawak
CATEGORIES:DEFAULT
END:VEVENT
END:VCALENDAR