BEGIN:VCALENDAR
VERSION:2.0
PRODID:-//NADI Ulu Manding - ECPv6.15.13.1//NONSGML v1.0//EN
CALSCALE:GREGORIAN
METHOD:PUBLISH
X-WR-CALNAME:NADI Ulu Manding
X-ORIGINAL-URL:https://ulumanding.nadi.my
X-WR-CALDESC:Events for NADI Ulu Manding
REFRESH-INTERVAL;VALUE=DURATION:PT1H
X-Robots-Tag:noindex
X-PUBLISHED-TTL:PT1H
BEGIN:VTIMEZONE
TZID:UTC
BEGIN:STANDARD
TZOFFSETFROM:+0000
TZOFFSETTO:+0000
TZNAME:UTC
DTSTART:20230101T000000
END:STANDARD
END:VTIMEZONE
BEGIN:VTIMEZONE
TZID:UTC
BEGIN:STANDARD
TZOFFSETFROM:+0000
TZOFFSETTO:+0000
TZNAME:UTC
DTSTART:20230101T000000
END:STANDARD
END:VTIMEZONE
BEGIN:VEVENT
DTSTART;TZID=UTC:20241219T083000
DTEND;TZID=UTC:20241219T233000
DTSTAMP:20260425T004500
CREATED:20250103T223357Z
LAST-MODIFIED:20250103T223357Z
UID:1730-1734597000-1734651000@ulumanding.nadi.my
SUMMARY:Program Perkhidmatan Pintar ( NADI safe and shield )
DESCRIPTION:Petugas NADI pergi ke sekolah Sk Nanga Babai untuk memberikan taklimat berkenaan dengan\, NADI safe and shield \, e-kelas dan Perkhidmatan Pintar di NADI.
URL:https://ulumanding.nadi.my/event/program-perkhidmatan-pintar-nadi-safe-and-shield-3/
LOCATION:SK NANGA BABAI\, SK NANGA BABAI\, SARIKEI\, SARAWAK\, 96510\, Malaysia
END:VEVENT
BEGIN:VEVENT
DTSTART;TZID=UTC:20241212T083000
DTEND;TZID=UTC:20241212T233000
DTSTAMP:20260425T004500
CREATED:20250103T222822Z
LAST-MODIFIED:20250103T222822Z
UID:1726-1733992200-1734046200@ulumanding.nadi.my
SUMMARY:Program Perkhidmatan Pintar ( NADI safe and shield )
DESCRIPTION:Petugas NADI pergi ke sekolah Sk Nanga Engkamop untuk memberikan taklimat berkenaan dengan\, NADI safe and shield \, e-kelas dan Perkhidmatan Pintar di NADI.
URL:https://ulumanding.nadi.my/event/program-perkhidmatan-pintar-nadi-safe-and-shield-2/
LOCATION:SK NANGA ENGKAMOP\, SK NANGA ENGKAMOP\, SARIKEI\, SARAWAK\, 96510\, Malaysia
END:VEVENT
BEGIN:VEVENT
DTSTART;TZID=UTC:20241206T083000
DTEND;TZID=UTC:20241206T113000
DTSTAMP:20260425T004500
CREATED:20250103T222417Z
LAST-MODIFIED:20250103T222505Z
UID:1721-1733473800-1733484600@ulumanding.nadi.my
SUMMARY:Program perkhidmatan Pintar ( NADI safe and Shield )
DESCRIPTION:Petugas NADI pergi ke sekolah Sk Nanga Pakan untuk memberikan taklimat berkenaan dengan\, NADI safe and shield \, e-kelas dan Perkhidmatan Pintar di NADI.
URL:https://ulumanding.nadi.my/event/program-perkhidmatan-pintar-nadi-safe-and-shield/
LOCATION:sk nanga pakan\, SK NANGA PAKAN\, SARIKEI\, SARAWAK\, 96510\, Malaysia
CATEGORIES:DEFAULT
END:VEVENT
BEGIN:VEVENT
DTSTART;TZID=UTC:20241124T140000
DTEND;TZID=UTC:20241124T170000
DTSTAMP:20260425T004500
CREATED:20241102T202846Z
LAST-MODIFIED:20241102T202846Z
UID:1700-1732456800-1732467600@ulumanding.nadi.my
SUMMARY:Klik Dengan Bijak
DESCRIPTION:
URL:https://ulumanding.nadi.my/event/klik-dengan-bijak-174/
LOCATION:SARAWAK
CATEGORIES:DEFAULT
END:VEVENT
BEGIN:VEVENT
DTSTART;TZID=UTC:20241123T140000
DTEND;TZID=UTC:20241123T170000
DTSTAMP:20260425T004500
CREATED:20241102T202822Z
LAST-MODIFIED:20241102T202822Z
UID:1699-1732370400-1732381200@ulumanding.nadi.my
SUMMARY:Klik Dengan Bijak
DESCRIPTION:
URL:https://ulumanding.nadi.my/event/klik-dengan-bijak-173/
LOCATION:SARAWAK
CATEGORIES:DEFAULT
END:VEVENT
BEGIN:VEVENT
DTSTART;TZID=UTC:20241122T140000
DTEND;TZID=UTC:20241122T170000
DTSTAMP:20260425T004500
CREATED:20241102T202738Z
LAST-MODIFIED:20241102T202738Z
UID:1698-1732284000-1732294800@ulumanding.nadi.my
SUMMARY:Klik Dengan Bijak
DESCRIPTION:
URL:https://ulumanding.nadi.my/event/klik-dengan-bijak-172/
LOCATION:SARAWAK
CATEGORIES:DEFAULT
END:VEVENT
BEGIN:VEVENT
DTSTART;TZID=UTC:20241112T140000
DTEND;TZID=UTC:20241112T170000
DTSTAMP:20260425T004500
CREATED:20241102T202701Z
LAST-MODIFIED:20241102T202701Z
UID:1697-1731420000-1731430800@ulumanding.nadi.my
SUMMARY:Aktiviti STEM
DESCRIPTION:
URL:https://ulumanding.nadi.my/event/aktiviti-stem-12/
LOCATION:SARAWAK
CATEGORIES:DEFAULT
END:VEVENT
BEGIN:VEVENT
DTSTART;TZID=UTC:20241109T140000
DTEND;TZID=UTC:20241109T170000
DTSTAMP:20260425T004500
CREATED:20241102T202636Z
LAST-MODIFIED:20241102T202636Z
UID:1696-1731160800-1731171600@ulumanding.nadi.my
SUMMARY:Kelas Keusahawanan ( Poster )
DESCRIPTION:
URL:https://ulumanding.nadi.my/event/kelas-keusahawanan-poster-6/
LOCATION:SARAWAK
CATEGORIES:DEFAULT
END:VEVENT
BEGIN:VEVENT
DTSTART;TZID=UTC:20241108T140000
DTEND;TZID=UTC:20241108T170000
DTSTAMP:20260425T004500
CREATED:20241102T202610Z
LAST-MODIFIED:20241102T202610Z
UID:1695-1731074400-1731085200@ulumanding.nadi.my
SUMMARY:Kelas Keusahawanan ( Canva )
DESCRIPTION:
URL:https://ulumanding.nadi.my/event/kelas-keusahawanan-canva-12/
LOCATION:SARAWAK
CATEGORIES:DEFAULT
END:VEVENT
BEGIN:VEVENT
DTSTART;TZID=UTC:20241108T140000
DTEND;TZID=UTC:20241108T170000
DTSTAMP:20260425T004500
CREATED:20241102T202512Z
LAST-MODIFIED:20241102T202512Z
UID:1694-1731074400-1731085200@ulumanding.nadi.my
SUMMARY:Kelas Keusahawanan ( Canva )
DESCRIPTION:
URL:https://ulumanding.nadi.my/event/kelas-keusahawanan-canva-11/
LOCATION:SARAWAK
CATEGORIES:DEFAULT
END:VEVENT
BEGIN:VEVENT
DTSTART;TZID=UTC:20241107T140000
DTEND;TZID=UTC:20241107T170000
DTSTAMP:20260425T004500
CREATED:20241102T202440Z
LAST-MODIFIED:20241102T202440Z
UID:1693-1730988000-1730998800@ulumanding.nadi.my
SUMMARY:Kelas Keusahawanan ( Canva )
DESCRIPTION:
URL:https://ulumanding.nadi.my/event/kelas-keusahawanan-canva-10/
LOCATION:SARAWAK
CATEGORIES:DEFAULT
END:VEVENT
BEGIN:VEVENT
DTSTART;TZID=UTC:20241106T140000
DTEND;TZID=UTC:20241106T170000
DTSTAMP:20260425T004500
CREATED:20241102T202411Z
LAST-MODIFIED:20241102T202411Z
UID:1692-1730901600-1730912400@ulumanding.nadi.my
SUMMARY:Kelas Microsoft Office ( Excel )
DESCRIPTION:
URL:https://ulumanding.nadi.my/event/kelas-microsoft-office-excel-17/
LOCATION:SARAWAK
CATEGORIES:DEFAULT
END:VEVENT
BEGIN:VEVENT
DTSTART;TZID=UTC:20241105T140000
DTEND;TZID=UTC:20241105T170000
DTSTAMP:20260425T004500
CREATED:20241102T202314Z
LAST-MODIFIED:20241102T202314Z
UID:1691-1730815200-1730826000@ulumanding.nadi.my
SUMMARY:Kelas Microsoft Office ( Word )
DESCRIPTION:
URL:https://ulumanding.nadi.my/event/kelas-microsoft-office-word-6/
LOCATION:SARAWAK
CATEGORIES:DEFAULT
END:VEVENT
BEGIN:VEVENT
DTSTART;TZID=UTC:20241104T090000
DTEND;TZID=UTC:20241104T113000
DTSTAMP:20260425T004500
CREATED:20241102T202236Z
LAST-MODIFIED:20241102T202236Z
UID:1690-1730710800-1730719800@ulumanding.nadi.my
SUMMARY:Kelas Microsoft Office ( Word )
DESCRIPTION:
URL:https://ulumanding.nadi.my/event/kelas-microsoft-office-word-5/
LOCATION:SARAWAK
CATEGORIES:DEFAULT
END:VEVENT
BEGIN:VEVENT
DTSTART;TZID=UTC:20241021T140000
DTEND;TZID=UTC:20241021T170000
DTSTAMP:20260425T004500
CREATED:20241003T162658Z
LAST-MODIFIED:20241003T162658Z
UID:1689-1729519200-1729530000@ulumanding.nadi.my
SUMMARY:Klik Dengan Bijak
DESCRIPTION:
URL:https://ulumanding.nadi.my/event/klik-dengan-bijak-171/
LOCATION:SARAWAK
CATEGORIES:DEFAULT
END:VEVENT
BEGIN:VEVENT
DTSTART;TZID=UTC:20241020T140000
DTEND;TZID=UTC:20241020T170000
DTSTAMP:20260425T004500
CREATED:20241003T162635Z
LAST-MODIFIED:20241003T162635Z
UID:1688-1729432800-1729443600@ulumanding.nadi.my
SUMMARY:Klik Dengan Bijak
DESCRIPTION:
URL:https://ulumanding.nadi.my/event/klik-dengan-bijak-170/
LOCATION:SARAWAK
CATEGORIES:DEFAULT
END:VEVENT
BEGIN:VEVENT
DTSTART;TZID=UTC:20241019T140000
DTEND;TZID=UTC:20241019T170000
DTSTAMP:20260425T004500
CREATED:20241003T162610Z
LAST-MODIFIED:20241003T162610Z
UID:1687-1729346400-1729357200@ulumanding.nadi.my
SUMMARY:Klik Dengan Bijak
DESCRIPTION:
URL:https://ulumanding.nadi.my/event/klik-dengan-bijak-169/
LOCATION:SARAWAK
CATEGORIES:DEFAULT
END:VEVENT
BEGIN:VEVENT
DTSTART;TZID=UTC:20241018T140000
DTEND;TZID=UTC:20241018T170000
DTSTAMP:20260425T004500
CREATED:20241003T162509Z
LAST-MODIFIED:20241003T162509Z
UID:1686-1729260000-1729270800@ulumanding.nadi.my
SUMMARY:Aktiviti STEM
DESCRIPTION:
URL:https://ulumanding.nadi.my/event/aktiviti-stem-11/
LOCATION:SARAWAK
CATEGORIES:DEFAULT
END:VEVENT
BEGIN:VEVENT
DTSTART;TZID=UTC:20241012T083000
DTEND;TZID=UTC:20241012T113000
DTSTAMP:20260425T004500
CREATED:20241003T162355Z
LAST-MODIFIED:20241003T162355Z
UID:1685-1728721800-1728732600@ulumanding.nadi.my
SUMMARY:Kelas ICT ( Powerpoint )
DESCRIPTION:
URL:https://ulumanding.nadi.my/event/kelas-ict-powerpoint/
LOCATION:SARAWAK
CATEGORIES:DEFAULT
END:VEVENT
BEGIN:VEVENT
DTSTART;TZID=UTC:20241011T083000
DTEND;TZID=UTC:20241011T113000
DTSTAMP:20260425T004500
CREATED:20241003T162309Z
LAST-MODIFIED:20241003T162309Z
UID:1684-1728635400-1728646200@ulumanding.nadi.my
SUMMARY:Kelas ICT ( Word )
DESCRIPTION:
URL:https://ulumanding.nadi.my/event/kelas-ict-word-4/
LOCATION:SARAWAK
CATEGORIES:DEFAULT
END:VEVENT
BEGIN:VEVENT
DTSTART;TZID=UTC:20241010T083000
DTEND;TZID=UTC:20241010T113000
DTSTAMP:20260425T004500
CREATED:20241003T162220Z
LAST-MODIFIED:20241003T162220Z
UID:1683-1728549000-1728559800@ulumanding.nadi.my
SUMMARY:Kelas ICT ( Word )
DESCRIPTION:
URL:https://ulumanding.nadi.my/event/kelas-ict-word-3/
LOCATION:SARAWAK
CATEGORIES:DEFAULT
END:VEVENT
BEGIN:VEVENT
DTSTART;TZID=UTC:20241009T140000
DTEND;TZID=UTC:20241009T170000
DTSTAMP:20260425T004500
CREATED:20241003T162139Z
LAST-MODIFIED:20241003T162139Z
UID:1682-1728482400-1728493200@ulumanding.nadi.my
SUMMARY:Kelas Keusahawanan ( Poster )
DESCRIPTION:
URL:https://ulumanding.nadi.my/event/kelas-keusahawanan-poster-5/
LOCATION:SARAWAK
CATEGORIES:DEFAULT
END:VEVENT
BEGIN:VEVENT
DTSTART;TZID=UTC:20241008T140000
DTEND;TZID=UTC:20241008T170000
DTSTAMP:20260425T004500
CREATED:20241003T162103Z
LAST-MODIFIED:20241003T162103Z
UID:1681-1728396000-1728406800@ulumanding.nadi.my
SUMMARY:Kelas Keusahawanan ( Shopee )
DESCRIPTION:
URL:https://ulumanding.nadi.my/event/kelas-keusahawanan-shopee-10/
LOCATION:SARAWAK
CATEGORIES:DEFAULT
END:VEVENT
BEGIN:VEVENT
DTSTART;TZID=UTC:20241007T090000
DTEND;TZID=UTC:20241007T120000
DTSTAMP:20260425T004500
CREATED:20241003T162022Z
LAST-MODIFIED:20241003T162022Z
UID:1680-1728291600-1728302400@ulumanding.nadi.my
SUMMARY:Kelas Keusahawanan ( Latihan asas media\, Facebook )
DESCRIPTION:
URL:https://ulumanding.nadi.my/event/kelas-keusahawanan-latihan-asas-media-facebook/
LOCATION:SARAWAK
CATEGORIES:DEFAULT
END:VEVENT
BEGIN:VEVENT
DTSTART;TZID=UTC:20240923T140000
DTEND;TZID=UTC:20240923T170000
DTSTAMP:20260425T004500
CREATED:20240901T191101Z
LAST-MODIFIED:20240901T191101Z
UID:1679-1727100000-1727110800@ulumanding.nadi.my
SUMMARY:Klik Dengan Bijak ( Scammer )
DESCRIPTION:
URL:https://ulumanding.nadi.my/event/klik-dengan-bijak-scammer/
LOCATION:SARAWAK
CATEGORIES:DEFAULT
END:VEVENT
BEGIN:VEVENT
DTSTART;TZID=UTC:20240922T140000
DTEND;TZID=UTC:20240922T170000
DTSTAMP:20260425T004500
CREATED:20240901T191001Z
LAST-MODIFIED:20240901T191001Z
UID:1678-1727013600-1727024400@ulumanding.nadi.my
SUMMARY:Klik Dengan Bijak ( Jenayah Siber )
DESCRIPTION:
URL:https://ulumanding.nadi.my/event/klik-dengan-bijak-jenayah-siber/
LOCATION:SARAWAK
CATEGORIES:DEFAULT
END:VEVENT
BEGIN:VEVENT
DTSTART;TZID=UTC:20240921T140000
DTEND;TZID=UTC:20240921T170000
DTSTAMP:20260425T004500
CREATED:20240901T190913Z
LAST-MODIFIED:20240901T190913Z
UID:1677-1726927200-1726938000@ulumanding.nadi.my
SUMMARY:Klik Dengan Bijak ( Berita Palsu )
DESCRIPTION:
URL:https://ulumanding.nadi.my/event/klik-dengan-bijak-berita-palsu/
LOCATION:SARAWAK
CATEGORIES:DEFAULT
END:VEVENT
BEGIN:VEVENT
DTSTART;TZID=UTC:20240920T140000
DTEND;TZID=UTC:20240920T170000
DTSTAMP:20260425T004500
CREATED:20240901T190830Z
LAST-MODIFIED:20240901T190830Z
UID:1676-1726840800-1726851600@ulumanding.nadi.my
SUMMARY:Aktiviti STEM
DESCRIPTION:
URL:https://ulumanding.nadi.my/event/aktiviti-stem-10/
LOCATION:SARAWAK
CATEGORIES:DEFAULT
END:VEVENT
BEGIN:VEVENT
DTSTART;TZID=UTC:20240911T140000
DTEND;TZID=UTC:20240911T170000
DTSTAMP:20260425T004500
CREATED:20240901T190722Z
LAST-MODIFIED:20240901T190722Z
UID:1675-1726063200-1726074000@ulumanding.nadi.my
SUMMARY:Kelas Keusahawanan ( Banner )
DESCRIPTION:
URL:https://ulumanding.nadi.my/event/kelas-keusahawanan-banner/
LOCATION:SARAWAK
CATEGORIES:DEFAULT
END:VEVENT
BEGIN:VEVENT
DTSTART;TZID=UTC:20240910T140000
DTEND;TZID=UTC:20240910T170000
DTSTAMP:20260425T004500
CREATED:20240901T190648Z
LAST-MODIFIED:20240901T190648Z
UID:1674-1725976800-1725987600@ulumanding.nadi.my
SUMMARY:Kelas Keusahawanan ( Poster )
DESCRIPTION:
URL:https://ulumanding.nadi.my/event/kelas-keusahawanan-poster-4/
LOCATION:SARAWAK
CATEGORIES:DEFAULT
END:VEVENT
END:VCALENDAR