BEGIN:VCALENDAR
VERSION:2.0
PRODID:-//NADI Ulu Manding - ECPv6.15.13.1//NONSGML v1.0//EN
CALSCALE:GREGORIAN
METHOD:PUBLISH
X-WR-CALNAME:NADI Ulu Manding
X-ORIGINAL-URL:https://ulumanding.nadi.my
X-WR-CALDESC:Events for NADI Ulu Manding
REFRESH-INTERVAL;VALUE=DURATION:PT1H
X-Robots-Tag:noindex
X-PUBLISHED-TTL:PT1H
BEGIN:VTIMEZONE
TZID:UTC
BEGIN:STANDARD
TZOFFSETFROM:+0000
TZOFFSETTO:+0000
TZNAME:UTC
DTSTART:20230101T000000
END:STANDARD
END:VTIMEZONE
BEGIN:VEVENT
DTSTART;TZID=UTC:20240909T140000
DTEND;TZID=UTC:20240909T170000
DTSTAMP:20260425T204238
CREATED:20240901T190602Z
LAST-MODIFIED:20240901T190602Z
UID:1673-1725890400-1725901200@ulumanding.nadi.my
SUMMARY:Kelas Keusahawanan ( Jadual Perniagaan )
DESCRIPTION:
URL:https://ulumanding.nadi.my/event/kelas-keusahawanan-jadual-perniagaan-2/
CATEGORIES:DEFAULT
END:VEVENT
BEGIN:VEVENT
DTSTART;TZID=UTC:20240905T083000
DTEND;TZID=UTC:20240905T113000
DTSTAMP:20260425T204238
CREATED:20240901T185637Z
LAST-MODIFIED:20240901T185637Z
UID:1672-1725525000-1725535800@ulumanding.nadi.my
SUMMARY:Kelas Microsoft Office ( Excel )
DESCRIPTION:
URL:https://ulumanding.nadi.my/event/kelas-microsoft-office-excel-16/
CATEGORIES:DEFAULT
END:VEVENT
BEGIN:VEVENT
DTSTART;TZID=UTC:20240904T083000
DTEND;TZID=UTC:20240904T113000
DTSTAMP:20260425T204238
CREATED:20240901T185543Z
LAST-MODIFIED:20240901T185543Z
UID:1671-1725438600-1725449400@ulumanding.nadi.my
SUMMARY:Kelas Microsoft Office ( Powerpoint )
DESCRIPTION:
URL:https://ulumanding.nadi.my/event/kelas-microsoft-office-powerpoint-9/
CATEGORIES:DEFAULT
END:VEVENT
BEGIN:VEVENT
DTSTART;TZID=UTC:20240903T083000
DTEND;TZID=UTC:20240903T113000
DTSTAMP:20260425T204238
CREATED:20240901T185444Z
LAST-MODIFIED:20240901T185444Z
UID:1670-1725352200-1725363000@ulumanding.nadi.my
SUMMARY:Kelas Microsoft office ( Powerpoint )
DESCRIPTION:
URL:https://ulumanding.nadi.my/event/kelas-microsoft-office-powerpoint-8/
CATEGORIES:DEFAULT
END:VEVENT
BEGIN:VEVENT
DTSTART;TZID=UTC:20240822T140000
DTEND;TZID=UTC:20240822T170000
DTSTAMP:20260425T204238
CREATED:20240801T180506Z
LAST-MODIFIED:20240801T180506Z
UID:1669-1724335200-1724346000@ulumanding.nadi.my
SUMMARY:KLIK DENGAN BIJAK
DESCRIPTION:
URL:https://ulumanding.nadi.my/event/klik-dengan-bijak-168/
CATEGORIES:DEFAULT
END:VEVENT
BEGIN:VEVENT
DTSTART;TZID=UTC:20240821T140000
DTEND;TZID=UTC:20240821T170000
DTSTAMP:20260425T204238
CREATED:20240801T180446Z
LAST-MODIFIED:20240801T180446Z
UID:1668-1724248800-1724259600@ulumanding.nadi.my
SUMMARY:KLIK DENGAN BIJAK
DESCRIPTION:
URL:https://ulumanding.nadi.my/event/klik-dengan-bijak-167/
CATEGORIES:DEFAULT
END:VEVENT
BEGIN:VEVENT
DTSTART;TZID=UTC:20240820T140000
DTEND;TZID=UTC:20240820T170000
DTSTAMP:20260425T204238
CREATED:20240801T180402Z
LAST-MODIFIED:20240801T180402Z
UID:1667-1724162400-1724173200@ulumanding.nadi.my
SUMMARY:KLIK DENGAN BIJAK
DESCRIPTION:
URL:https://ulumanding.nadi.my/event/klik-dengan-bijak-166/
CATEGORIES:DEFAULT
END:VEVENT
BEGIN:VEVENT
DTSTART;TZID=UTC:20240816T020000
DTEND;TZID=UTC:20240816T170000
DTSTAMP:20260425T204238
CREATED:20240801T180316Z
LAST-MODIFIED:20240801T180316Z
UID:1666-1723773600-1723827600@ulumanding.nadi.my
SUMMARY:AKTIVITI STEM
DESCRIPTION:
URL:https://ulumanding.nadi.my/event/aktiviti-stem-9/
CATEGORIES:DEFAULT
END:VEVENT
BEGIN:VEVENT
DTSTART;TZID=UTC:20240808T140000
DTEND;TZID=UTC:20240808T170000
DTSTAMP:20260425T204238
CREATED:20240801T180247Z
LAST-MODIFIED:20240801T180247Z
UID:1665-1723125600-1723136400@ulumanding.nadi.my
SUMMARY:KELAS KEUSAHAWANAN ( POSTER )
DESCRIPTION:
URL:https://ulumanding.nadi.my/event/kelas-keusahawanan-poster-3/
CATEGORIES:DEFAULT
END:VEVENT
BEGIN:VEVENT
DTSTART;TZID=UTC:20240807T140000
DTEND;TZID=UTC:20240807T170000
DTSTAMP:20260425T204238
CREATED:20240801T180155Z
LAST-MODIFIED:20240801T180155Z
UID:1664-1723039200-1723050000@ulumanding.nadi.my
SUMMARY:KELAS KEUSAHAWANAN ( SHOPEE )
DESCRIPTION:
URL:https://ulumanding.nadi.my/event/kelas-keusahawanan-shopee-9/
CATEGORIES:DEFAULT
END:VEVENT
BEGIN:VEVENT
DTSTART;TZID=UTC:20240806T140000
DTEND;TZID=UTC:20240806T170000
DTSTAMP:20260425T204238
CREATED:20240801T180038Z
LAST-MODIFIED:20240801T180038Z
UID:1663-1722952800-1722963600@ulumanding.nadi.my
SUMMARY:KELAS KEUSAHAWANAN ( CANVA )
DESCRIPTION:
URL:https://ulumanding.nadi.my/event/kelas-keusahawanan-canva-9/
CATEGORIES:DEFAULT
END:VEVENT
BEGIN:VEVENT
DTSTART;TZID=UTC:20240805T083000
DTEND;TZID=UTC:20240805T113000
DTSTAMP:20260425T204238
CREATED:20240801T175848Z
LAST-MODIFIED:20240801T175848Z
UID:1662-1722846600-1722857400@ulumanding.nadi.my
SUMMARY:KELAS MIROSOFT OFFICE ( EXCEL )
DESCRIPTION:
URL:https://ulumanding.nadi.my/event/kelas-mirosoft-office-excel/
CATEGORIES:DEFAULT
END:VEVENT
BEGIN:VEVENT
DTSTART;TZID=UTC:20240804T140000
DTEND;TZID=UTC:20240804T170000
DTSTAMP:20260425T204238
CREATED:20240801T175752Z
LAST-MODIFIED:20240801T175752Z
UID:1661-1722780000-1722790800@ulumanding.nadi.my
SUMMARY:KELAS MICROSOFT OFFICE ( POWERPOINT )
DESCRIPTION:
URL:https://ulumanding.nadi.my/event/kelas-microsoft-office-powerpoint-7/
CATEGORIES:DEFAULT
END:VEVENT
BEGIN:VEVENT
DTSTART;TZID=UTC:20240803T090000
DTEND;TZID=UTC:20240803T113000
DTSTAMP:20260425T204238
CREATED:20240801T175708Z
LAST-MODIFIED:20240801T175708Z
UID:1660-1722675600-1722684600@ulumanding.nadi.my
SUMMARY:KELAS MICROSOFT OFFICE ( WORD )
DESCRIPTION:
URL:https://ulumanding.nadi.my/event/kelas-microsoft-office-word-4/
CATEGORIES:DEFAULT
END:VEVENT
BEGIN:VEVENT
DTSTART;TZID=UTC:20240722T140000
DTEND;TZID=UTC:20240722T170000
DTSTAMP:20260425T204238
CREATED:20240630T223552Z
LAST-MODIFIED:20240630T223552Z
UID:1659-1721656800-1721667600@ulumanding.nadi.my
SUMMARY:Klik Dengan Bijak
DESCRIPTION:
URL:https://ulumanding.nadi.my/event/klik-dengan-bijak-165/
CATEGORIES:DEFAULT
END:VEVENT
BEGIN:VEVENT
DTSTART;TZID=UTC:20240721T140000
DTEND;TZID=UTC:20240721T170000
DTSTAMP:20260425T204238
CREATED:20240630T223528Z
LAST-MODIFIED:20240630T223528Z
UID:1658-1721570400-1721581200@ulumanding.nadi.my
SUMMARY:Klik Dengan Bijak
DESCRIPTION:
URL:https://ulumanding.nadi.my/event/klik-dengan-bijak-164/
CATEGORIES:DEFAULT
END:VEVENT
BEGIN:VEVENT
DTSTART;TZID=UTC:20240719T140000
DTEND;TZID=UTC:20240719T170000
DTSTAMP:20260425T204238
CREATED:20240630T223441Z
LAST-MODIFIED:20240630T223441Z
UID:1656-1721397600-1721408400@ulumanding.nadi.my
SUMMARY:Aktiviti STEM
DESCRIPTION:
URL:https://ulumanding.nadi.my/event/aktiviti-stem-8/
CATEGORIES:DEFAULT
END:VEVENT
BEGIN:VEVENT
DTSTART;TZID=UTC:20240719T090000
DTEND;TZID=UTC:20240719T110000
DTSTAMP:20260425T204238
CREATED:20240630T223506Z
LAST-MODIFIED:20240630T223506Z
UID:1657-1721379600-1721386800@ulumanding.nadi.my
SUMMARY:Klik Dengan Bijak
DESCRIPTION:
URL:https://ulumanding.nadi.my/event/klik-dengan-bijak-163/
CATEGORIES:DEFAULT
END:VEVENT
BEGIN:VEVENT
DTSTART;TZID=UTC:20240711T140000
DTEND;TZID=UTC:20240711T170000
DTSTAMP:20260425T204238
CREATED:20240630T223418Z
LAST-MODIFIED:20240630T223418Z
UID:1655-1720706400-1720717200@ulumanding.nadi.my
SUMMARY:kelas Keusahawanan ( Poster )
DESCRIPTION:
URL:https://ulumanding.nadi.my/event/kelas-keusahawanan-poster-2/
CATEGORIES:DEFAULT
END:VEVENT
BEGIN:VEVENT
DTSTART;TZID=UTC:20240709T140000
DTEND;TZID=UTC:20240709T170000
DTSTAMP:20260425T204238
CREATED:20240630T223321Z
LAST-MODIFIED:20240630T223321Z
UID:1653-1720533600-1720544400@ulumanding.nadi.my
SUMMARY:Kelas Keusahawanan ( canva )
DESCRIPTION:
URL:https://ulumanding.nadi.my/event/kelas-keusahawanan-canva-8/
CATEGORIES:DEFAULT
END:VEVENT
BEGIN:VEVENT
DTSTART;TZID=UTC:20240704T090000
DTEND;TZID=UTC:20240704T110000
DTSTAMP:20260425T204238
CREATED:20240630T222951Z
LAST-MODIFIED:20240630T222951Z
UID:1652-1720083600-1720090800@ulumanding.nadi.my
SUMMARY:Kelas Microsoft Office ( Excel )
DESCRIPTION:
URL:https://ulumanding.nadi.my/event/kelas-microsoft-office-excel-15/
CATEGORIES:DEFAULT
END:VEVENT
BEGIN:VEVENT
DTSTART;TZID=UTC:20240703T090000
DTEND;TZID=UTC:20240703T110000
DTSTAMP:20260425T204238
CREATED:20240630T222907Z
LAST-MODIFIED:20240630T222907Z
UID:1651-1719997200-1720004400@ulumanding.nadi.my
SUMMARY:Kelas Microsoft Office ( Excel )
DESCRIPTION:
URL:https://ulumanding.nadi.my/event/kelas-microsoft-office-excel-14/
CATEGORIES:DEFAULT
END:VEVENT
BEGIN:VEVENT
DTSTART;TZID=UTC:20240702T090000
DTEND;TZID=UTC:20240702T110000
DTSTAMP:20260425T204238
CREATED:20240630T222820Z
LAST-MODIFIED:20240630T222820Z
UID:1650-1719910800-1719918000@ulumanding.nadi.my
SUMMARY:Kelas Microsoft Office ( Powerpoint )
DESCRIPTION:
URL:https://ulumanding.nadi.my/event/kelas-microsoft-office-powerpoint-6/
CATEGORIES:DEFAULT
END:VEVENT
BEGIN:VEVENT
DTSTART;TZID=UTC:20240701T140000
DTEND;TZID=UTC:20240701T170000
DTSTAMP:20260425T204238
CREATED:20240630T223347Z
LAST-MODIFIED:20240630T223347Z
UID:1654-1719842400-1719853200@ulumanding.nadi.my
SUMMARY:Kelas Keusahawanan ( Jadual perniagaan )
DESCRIPTION:
URL:https://ulumanding.nadi.my/event/kelas-keusahawanan-jadual-perniagaan/
CATEGORIES:DEFAULT
END:VEVENT
BEGIN:VEVENT
DTSTART;TZID=UTC:20240623T020000
DTEND;TZID=UTC:20240623T170000
DTSTAMP:20260425T204238
CREATED:20240603T180516Z
LAST-MODIFIED:20240603T180516Z
UID:1649-1719108000-1719162000@ulumanding.nadi.my
SUMMARY:Klik Dengan Bijak
DESCRIPTION:
URL:https://ulumanding.nadi.my/event/klik-dengan-bijak-162/
CATEGORIES:DEFAULT
END:VEVENT
BEGIN:VEVENT
DTSTART;TZID=UTC:20240622T140000
DTEND;TZID=UTC:20240622T170000
DTSTAMP:20260425T204238
CREATED:20240603T180429Z
LAST-MODIFIED:20240603T180429Z
UID:1648-1719064800-1719075600@ulumanding.nadi.my
SUMMARY:klik Dengan Bijak
DESCRIPTION:
URL:https://ulumanding.nadi.my/event/klik-dengan-bijak-161/
CATEGORIES:DEFAULT
END:VEVENT
BEGIN:VEVENT
DTSTART;TZID=UTC:20240621T140000
DTEND;TZID=UTC:20240621T170000
DTSTAMP:20260425T204238
CREATED:20240603T180401Z
LAST-MODIFIED:20240603T180401Z
UID:1647-1718978400-1718989200@ulumanding.nadi.my
SUMMARY:Klik Dengan Bijak
DESCRIPTION:
URL:https://ulumanding.nadi.my/event/klik-dengan-bijak-160/
CATEGORIES:DEFAULT
END:VEVENT
BEGIN:VEVENT
DTSTART;TZID=UTC:20240619T140000
DTEND;TZID=UTC:20240619T170000
DTSTAMP:20260425T204239
CREATED:20240603T175609Z
LAST-MODIFIED:20240603T175609Z
UID:1646-1718805600-1718816400@ulumanding.nadi.my
SUMMARY:Aktiviti Stem
DESCRIPTION:
URL:https://ulumanding.nadi.my/event/aktiviti-stem-7/
CATEGORIES:DEFAULT
END:VEVENT
BEGIN:VEVENT
DTSTART;TZID=UTC:20240616T140000
DTEND;TZID=UTC:20240616T170000
DTSTAMP:20260425T204239
CREATED:20240603T175544Z
LAST-MODIFIED:20240603T175544Z
UID:1645-1718546400-1718557200@ulumanding.nadi.my
SUMMARY:Kelas Keusahawanan ( Canva )
DESCRIPTION:
URL:https://ulumanding.nadi.my/event/kelas-keusahawanan-canva-7/
CATEGORIES:DEFAULT
END:VEVENT
BEGIN:VEVENT
DTSTART;TZID=UTC:20240615T083000
DTEND;TZID=UTC:20240615T103000
DTSTAMP:20260425T204239
CREATED:20240603T175435Z
LAST-MODIFIED:20240603T175435Z
UID:1644-1718440200-1718447400@ulumanding.nadi.my
SUMMARY:Kelas Keusahawanan ( Canva )
DESCRIPTION:
URL:https://ulumanding.nadi.my/event/kelas-keusahawanan-canva-6/
CATEGORIES:DEFAULT
END:VEVENT
END:VCALENDAR