BEGIN:VCALENDAR
VERSION:2.0
PRODID:-//NADI Ulu Manding - ECPv6.15.13.1//NONSGML v1.0//EN
CALSCALE:GREGORIAN
METHOD:PUBLISH
X-WR-CALNAME:NADI Ulu Manding
X-ORIGINAL-URL:https://ulumanding.nadi.my
X-WR-CALDESC:Events for NADI Ulu Manding
REFRESH-INTERVAL;VALUE=DURATION:PT1H
X-Robots-Tag:noindex
X-PUBLISHED-TTL:PT1H
BEGIN:VTIMEZONE
TZID:Asia/Kuala_Lumpur
BEGIN:STANDARD
TZOFFSETFROM:+0800
TZOFFSETTO:+0800
TZNAME:+08
DTSTART:20240101T000000
END:STANDARD
END:VTIMEZONE
BEGIN:VEVENT
DTSTART;TZID=Asia/Kuala_Lumpur:20250408T143000
DTEND;TZID=Asia/Kuala_Lumpur:20250408T163000
DTSTAMP:20260425T113200
CREATED:20250408T022424Z
LAST-MODIFIED:20250408T022424Z
UID:1934-1744122600-1744129800@ulumanding.nadi.my
SUMMARY:Kelas NADI Mahir ( Jahit )
DESCRIPTION:Peserta menyertai kelas NADI mahir jahit melalui webminar.
URL:https://ulumanding.nadi.my/event/kelas-nadi-mahir-jahit/
LOCATION:NADI KAMPUNG ULU MANDING\, ULU MANDING\, PAKAN\, Sarawak\, 96510\, Malaysia
END:VEVENT
BEGIN:VEVENT
DTSTART;TZID=Asia/Kuala_Lumpur:20250409T140000
DTEND;TZID=Asia/Kuala_Lumpur:20250409T170000
DTSTAMP:20260425T113200
CREATED:20250409T005248Z
LAST-MODIFIED:20250409T005248Z
UID:1937-1744207200-1744218000@ulumanding.nadi.my
SUMMARY:Kelas ICT
DESCRIPTION:Petugas membuat kelas ICT excel bersama peserta
URL:https://ulumanding.nadi.my/event/kelas-ict-109/
LOCATION:NADI KAMPUNG ULU MANDING\, ULU MANDING\, PAKAN\, Sarawak\, 96510\, Malaysia
END:VEVENT
BEGIN:VEVENT
DTSTART;TZID=Asia/Kuala_Lumpur:20250416T140000
DTEND;TZID=Asia/Kuala_Lumpur:20250416T170000
DTSTAMP:20260425T113200
CREATED:20250416T002450Z
LAST-MODIFIED:20250416T002450Z
UID:1942-1744812000-1744822800@ulumanding.nadi.my
SUMMARY:Kelas ICT
DESCRIPTION:Petugas menyediakan kelas menaip laporan aktiviti.
URL:https://ulumanding.nadi.my/event/kelas-ict-110/
LOCATION:NADI KAMPUNG ULU MANDING\, ULU MANDING\, PAKAN\, Sarawak\, 96510\, Malaysia
END:VEVENT
BEGIN:VEVENT
DTSTART;TZID=Asia/Kuala_Lumpur:20250422T140000
DTEND;TZID=Asia/Kuala_Lumpur:20250422T170000
DTSTAMP:20260425T113200
CREATED:20250421T235641Z
LAST-MODIFIED:20250421T235641Z
UID:1944-1745330400-1745341200@ulumanding.nadi.my
SUMMARY:NADI MAHIR ( JAHIT )
DESCRIPTION:Peserta menyertai kelas menjahit yang dianjurkan NADI MAHIR
URL:https://ulumanding.nadi.my/event/nadi-mahir-jahit/
LOCATION:NADI KAMPUNG ULU MANDING\, ULU MANDING\, PAKAN\, Sarawak\, 96510\, Malaysia
END:VEVENT
END:VCALENDAR