BEGIN:VCALENDAR
VERSION:2.0
PRODID:-//NADI Ulu Manding - ECPv6.15.13.1//NONSGML v1.0//EN
CALSCALE:GREGORIAN
METHOD:PUBLISH
X-WR-CALNAME:NADI Ulu Manding
X-ORIGINAL-URL:https://ulumanding.nadi.my
X-WR-CALDESC:Events for NADI Ulu Manding
REFRESH-INTERVAL;VALUE=DURATION:PT1H
X-Robots-Tag:noindex
X-PUBLISHED-TTL:PT1H
BEGIN:VTIMEZONE
TZID:Asia/Kuala_Lumpur
BEGIN:STANDARD
TZOFFSETFROM:+0800
TZOFFSETTO:+0800
TZNAME:+08
DTSTART:20240101T000000
END:STANDARD
END:VTIMEZONE
BEGIN:VEVENT
DTSTART;TZID=Asia/Kuala_Lumpur:20250605T140000
DTEND;TZID=Asia/Kuala_Lumpur:20250605T170000
DTSTAMP:20260423T080749
CREATED:20250605T011841Z
LAST-MODIFIED:20250605T011843Z
UID:2012-1749132000-1749142800@ulumanding.nadi.my
SUMMARY:Kelas ICT ( excel )
DESCRIPTION:Petugas membuat kelas latihan menaip excel.
URL:https://ulumanding.nadi.my/event/kelas-ict-excel-4/
LOCATION:NADI KAMPUNG ULU MANDING\, ULU MANDING\, PAKAN\, Sarawak\, 96510\, Malaysia
END:VEVENT
BEGIN:VEVENT
DTSTART;TZID=Asia/Kuala_Lumpur:20250613T103000
DTEND;TZID=Asia/Kuala_Lumpur:20250613T113000
DTSTAMP:20260423T080749
CREATED:20250613T005129Z
LAST-MODIFIED:20250613T005129Z
UID:2017-1749810600-1749814200@ulumanding.nadi.my
SUMMARY:Webminar kesejahteraan kendiri ( Kenali makanan anda )
DESCRIPTION:Merupakan webminar yang memberikan kesedaran mengenai pengambilan makanan sihat.
URL:https://ulumanding.nadi.my/event/webminar-kesejahteraan-kendiri-kenali-makanan-anda/
LOCATION:NADI KAMPUNG ULU MANDING\, ULU MANDING\, PAKAN\, Sarawak\, 96510\, Malaysia
END:VEVENT
BEGIN:VEVENT
DTSTART;TZID=Asia/Kuala_Lumpur:20250613T140000
DTEND;TZID=Asia/Kuala_Lumpur:20250613T170000
DTSTAMP:20260423T080749
CREATED:20250613T004650Z
LAST-MODIFIED:20250613T004652Z
UID:2015-1749823200-1749834000@ulumanding.nadi.my
SUMMARY:Kelas ICT ( powerpoint )
DESCRIPTION:Petugas mengadakan kelas menaip Microsoft powerpoint
URL:https://ulumanding.nadi.my/event/kelas-ict-powerpoint-2/
LOCATION:NADI KAMPUNG ULU MANDING\, ULU MANDING\, PAKAN\, Sarawak\, 96510\, Malaysia
END:VEVENT
END:VCALENDAR