BEGIN:VCALENDAR
VERSION:2.0
PRODID:-//NADI Ulu Manding - ECPv6.15.13.1//NONSGML v1.0//EN
CALSCALE:GREGORIAN
METHOD:PUBLISH
X-ORIGINAL-URL:https://ulumanding.nadi.my
X-WR-CALDESC:Events for NADI Ulu Manding
REFRESH-INTERVAL;VALUE=DURATION:PT1H
X-Robots-Tag:noindex
X-PUBLISHED-TTL:PT1H
BEGIN:VTIMEZONE
TZID:Asia/Kuala_Lumpur
BEGIN:STANDARD
TZOFFSETFROM:+0800
TZOFFSETTO:+0800
TZNAME:+08
DTSTART:20240101T000000
END:STANDARD
END:VTIMEZONE
BEGIN:VEVENT
DTSTART;TZID=Asia/Kuala_Lumpur:20251010T030000
DTEND;TZID=Asia/Kuala_Lumpur:20251010T163000
DTSTAMP:20260421T063845
CREATED:20251010T002323Z
LAST-MODIFIED:20251010T002323Z
UID:2147-1760065200-1760113800@ulumanding.nadi.my
SUMMARY:Webimar Awareness
DESCRIPTION:Webimar awareness ancaman siber di tempat awam
URL:https://ulumanding.nadi.my/event/webimar-awareness/
LOCATION:NADI KAMPUNG ULU MANDING\, ULU MANDING\, PAKAN\, Sarawak\, 96510\, Malaysia
END:VEVENT
BEGIN:VEVENT
DTSTART;TZID=Asia/Kuala_Lumpur:20251012T140000
DTEND;TZID=Asia/Kuala_Lumpur:20251012T170000
DTSTAMP:20260421T063845
CREATED:20251012T035710Z
LAST-MODIFIED:20251012T035713Z
UID:2154-1760277600-1760288400@ulumanding.nadi.my
SUMMARY:Kelas ICT
DESCRIPTION:Kelas Menaip microsoft excel dan word.
URL:https://ulumanding.nadi.my/event/kelas-ict-112/
LOCATION:NADI KAMPUNG ULU MANDING\, ULU MANDING\, PAKAN\, Sarawak\, 96510\, Malaysia
END:VEVENT
BEGIN:VEVENT
DTSTART;TZID=Asia/Kuala_Lumpur:20251016T100000
DTEND;TZID=Asia/Kuala_Lumpur:20251016T233000
DTSTAMP:20260421T063845
CREATED:20251016T005733Z
LAST-MODIFIED:20251016T005733Z
UID:2156-1760608800-1760657400@ulumanding.nadi.my
SUMMARY:Webinar Sesi 2 ( Pemasaran dan operasi Perniagaan )
DESCRIPTION:Kelas Keusahawanan melalui talian.
URL:https://ulumanding.nadi.my/event/webinar-sesi-2-pemasaran-dan-operasi-perniagaan/
LOCATION:NADI KAMPUNG ULU MANDING\, ULU MANDING\, PAKAN\, Sarawak\, 96510\, Malaysia
END:VEVENT
BEGIN:VEVENT
DTSTART;TZID=Asia/Kuala_Lumpur:20251019T140000
DTEND;TZID=Asia/Kuala_Lumpur:20251019T170000
DTSTAMP:20260421T063845
CREATED:20251018T072733Z
LAST-MODIFIED:20251018T072733Z
UID:2158-1760882400-1760893200@ulumanding.nadi.my
SUMMARY:Kelas ICT ( excel )
DESCRIPTION:Petugas membuat kelas microsoft excel kepada komuniti.
URL:https://ulumanding.nadi.my/event/kelas-ict-excel-5/
LOCATION:NADI KAMPUNG ULU MANDING\, ULU MANDING\, PAKAN\, Sarawak\, 96510\, Malaysia
END:VEVENT
BEGIN:VEVENT
DTSTART;TZID=Asia/Kuala_Lumpur:20251021T153000
DTEND;TZID=Asia/Kuala_Lumpur:20251021T163000
DTSTAMP:20260421T063845
CREATED:20251021T004556Z
LAST-MODIFIED:20251021T004556Z
UID:2160-1761060600-1761064200@ulumanding.nadi.my
SUMMARY:Kelas Tuisyen ( DILEA )
DESCRIPTION:Pelajar menyertai kelas tambahan melalui online ( Bahasa Inggeris Tingkatan 1 – Tingkatan 5 )
URL:https://ulumanding.nadi.my/event/kelas-tuisyen-dilea/
LOCATION:NADI KAMPUNG ULU MANDING\, ULU MANDING\, PAKAN\, Sarawak\, 96510\, Malaysia
END:VEVENT
BEGIN:VEVENT
DTSTART;TZID=Asia/Kuala_Lumpur:20251024T103000
DTEND;TZID=Asia/Kuala_Lumpur:20251024T113000
DTSTAMP:20260421T063845
CREATED:20251024T004137Z
LAST-MODIFIED:20251024T004137Z
UID:2162-1761301800-1761305400@ulumanding.nadi.my
SUMMARY:Kesejahteraan kendiri ( wellbeing )
DESCRIPTION:Ceramah daripada Dr Noraini Mat Husin mengenai Rheumatoid Artritis Bukan Sakit Biasa – Bila Sendi Lawan Sistem Imun Sendiri.
URL:https://ulumanding.nadi.my/event/kesejahteraan-kendiri-wellbeing/
LOCATION:NADI KAMPUNG ULU MANDING\, ULU MANDING\, PAKAN\, Sarawak\, 96510\, Malaysia
END:VEVENT
END:VCALENDAR